Package: flowFP Version: 1.64.0 Command: /Library/Frameworks/R.framework/Resources/bin/R CMD INSTALL flowFP StartedAt: 2025-01-27 15:13:29 -0500 (Mon, 27 Jan 2025) EndedAt: 2025-01-27 15:13:49 -0500 (Mon, 27 Jan 2025) EllapsedTime: 19.7 seconds RetCode: 0 Status: OK