Package: flowFP Version: 1.64.0 Command: /Library/Frameworks/R.framework/Resources/bin/R CMD check --install=check:flowFP.install-out.txt --library=/Library/Frameworks/R.framework/Resources/library --no-vignettes --timings flowFP_1.64.0.tar.gz StartedAt: 2025-01-28 19:25:04 -0500 (Tue, 28 Jan 2025) EndedAt: 2025-01-28 19:26:52 -0500 (Tue, 28 Jan 2025) EllapsedTime: 108.3 seconds RetCode: 0 Status: WARNINGS CheckDir: flowFP.Rcheck Warnings: 1