Package: flowDensity Version: 1.40.0 Command: F:\biocbuild\bbs-3.20-bioc\R\bin\R.exe CMD check --no-multiarch --install=check:flowDensity.install-out.txt --library=F:\biocbuild\bbs-3.20-bioc\R\library --no-vignettes --timings flowDensity_1.40.0.tar.gz StartedAt: 2025-04-01 01:36:52 -0400 (Tue, 01 Apr 2025) EndedAt: 2025-04-01 01:38:05 -0400 (Tue, 01 Apr 2025) EllapsedTime: 73.1 seconds RetCode: 0 Status: WARNINGS CheckDir: flowDensity.Rcheck Warnings: 3