Package: flowCut Version: 1.16.0 Command: /home/biocbuild/R/R/bin/R CMD INSTALL flowCut StartedAt: 2025-02-03 21:07:34 -0000 (Mon, 03 Feb 2025) EndedAt: 2025-02-03 21:07:44 -0000 (Mon, 03 Feb 2025) EllapsedTime: 9.8 seconds RetCode: 0 Status: OK