Package: flowCut Version: 1.16.0 Command: /home/biocbuild/R/R/bin/R CMD check --install=check:flowCut.install-out.txt --library=/home/biocbuild/R/R/site-library --no-vignettes --timings flowCut_1.16.0.tar.gz StartedAt: 2025-04-01 06:33:13 -0000 (Tue, 01 Apr 2025) EndedAt: 2025-04-01 06:34:43 -0000 (Tue, 01 Apr 2025) EllapsedTime: 90.1 seconds RetCode: 0 Status: OK CheckDir: flowCut.Rcheck Warnings: 0