Package: flowCut Version: 1.16.0 Command: /home/biocbuild/R/R/bin/R CMD build --keep-empty-dirs --no-resave-data flowCut StartedAt: 2025-01-30 23:38:41 -0000 (Thu, 30 Jan 2025) EndedAt: 2025-01-30 23:39:12 -0000 (Thu, 30 Jan 2025) EllapsedTime: 31.0 seconds RetCode: 0 Status: OK PackageFile: flowCut_1.16.0.tar.gz PackageFileSize: 7.484 MiB