Package: flowCut Version: 1.16.0 Command: F:\biocbuild\bbs-3.20-bioc\R\bin\R.exe CMD INSTALL flowCut StartedAt: 2025-01-30 16:32:12 -0500 (Thu, 30 Jan 2025) EndedAt: 2025-01-30 16:32:23 -0500 (Thu, 30 Jan 2025) EllapsedTime: 11.0 seconds RetCode: 0 Status: OK