Package: flowCut Version: 1.16.0 Command: F:\biocbuild\bbs-3.20-bioc\R\bin\R.exe CMD check --no-multiarch --install=check:flowCut.install-out.txt --library=F:\biocbuild\bbs-3.20-bioc\R\library --no-vignettes --timings flowCut_1.16.0.tar.gz StartedAt: 2025-01-31 02:05:28 -0500 (Fri, 31 Jan 2025) EndedAt: 2025-01-31 02:07:11 -0500 (Fri, 31 Jan 2025) EllapsedTime: 103.5 seconds RetCode: 0 Status: OK CheckDir: flowCut.Rcheck Warnings: 0