Package: flowCut Version: 1.16.0 Command: chmod a+r flowCut -R && F:\biocbuild\bbs-3.20-bioc\R\bin\R.exe CMD build --keep-empty-dirs --no-resave-data flowCut StartedAt: 2025-01-30 18:55:43 -0500 (Thu, 30 Jan 2025) EndedAt: 2025-01-30 19:02:08 -0500 (Thu, 30 Jan 2025) EllapsedTime: 384.8 seconds RetCode: 0 Status: OK PackageFile: flowCut_1.16.0.tar.gz PackageFileSize: 6.732 MiB