Package: flowCut Version: 1.16.0 Command: /Library/Frameworks/R.framework/Resources/bin/R CMD INSTALL flowCut StartedAt: 2025-01-30 17:23:42 -0500 (Thu, 30 Jan 2025) EndedAt: 2025-01-30 17:23:52 -0500 (Thu, 30 Jan 2025) EllapsedTime: 9.4 seconds RetCode: 0 Status: OK