Package: flowCore Version: 2.18.0 Command: /Library/Frameworks/R.framework/Resources/bin/R CMD check --install=check:flowCore.install-out.txt --library=/Library/Frameworks/R.framework/Resources/library --no-vignettes --timings flowCore_2.18.0.tar.gz StartedAt: 2025-04-01 03:05:53 -0400 (Tue, 01 Apr 2025) EndedAt: 2025-04-01 03:11:04 -0400 (Tue, 01 Apr 2025) EllapsedTime: 311.2 seconds RetCode: 0 Status: WARNINGS CheckDir: flowCore.Rcheck Warnings: 3