Package: flowCore Version: 2.18.0 Command: rm -rf flowCore.buildbin-libdir && mkdir flowCore.buildbin-libdir && /Users/biocbuild/BBS/utils/build-universal.sh flowCore_2.18.0.tar.gz /Library/Frameworks/R.framework/Resources/bin/R flowCore.buildbin-libdir StartedAt: 2025-04-01 11:53:28 -0400 (Tue, 01 Apr 2025) EndedAt: 2025-04-01 11:55:12 -0400 (Tue, 01 Apr 2025) EllapsedTime: 103.6 seconds RetCode: 0 Status: OK PackageFile: flowCore_2.18.0.tgz PackageFileSize: 8.181 MiB