Package: flowClust Version: 3.44.0 Command: /home/biocbuild/R/R/bin/R CMD build --keep-empty-dirs --no-resave-data flowClust StartedAt: 2025-01-28 00:21:24 -0000 (Tue, 28 Jan 2025) EndedAt: 2025-01-28 00:23:49 -0000 (Tue, 28 Jan 2025) EllapsedTime: 145.1 seconds RetCode: 0 Status: OK PackageFile: flowClust_3.44.0.tar.gz PackageFileSize: 1.618 MiB