Package: flowClust Version: 3.44.0 Command: F:\biocbuild\bbs-3.20-bioc\R\bin\R.exe CMD check --no-multiarch --install=check:flowClust.install-out.txt --library=F:\biocbuild\bbs-3.20-bioc\R\library --no-vignettes --timings flowClust_3.44.0.tar.gz StartedAt: 2025-01-28 01:38:00 -0500 (Tue, 28 Jan 2025) EndedAt: 2025-01-28 01:44:31 -0500 (Tue, 28 Jan 2025) EllapsedTime: 391.1 seconds RetCode: 0 Status: WARNINGS CheckDir: flowClust.Rcheck Warnings: 1