Package: flowClust Version: 3.44.0 Command: /Library/Frameworks/R.framework/Resources/bin/R CMD INSTALL flowClust StartedAt: 2025-01-27 15:25:31 -0500 (Mon, 27 Jan 2025) EndedAt: 2025-01-27 15:29:59 -0500 (Mon, 27 Jan 2025) EllapsedTime: 268.5 seconds RetCode: 0 Status: OK