Package: flowClust Version: 3.44.0 Command: /Library/Frameworks/R.framework/Resources/bin/R CMD INSTALL flowClust StartedAt: 2025-02-03 15:19:50 -0500 (Mon, 03 Feb 2025) EndedAt: 2025-02-03 15:22:06 -0500 (Mon, 03 Feb 2025) EllapsedTime: 136.1 seconds RetCode: 0 Status: OK