Package: flowClean Version: 1.44.0 Command: /home/biocbuild/R/R/bin/R CMD check --install=check:flowClean.install-out.txt --library=/home/biocbuild/R/R/site-library --no-vignettes --timings flowClean_1.44.0.tar.gz StartedAt: 2025-04-01 06:32:54 -0000 (Tue, 01 Apr 2025) EndedAt: 2025-04-01 06:34:08 -0000 (Tue, 01 Apr 2025) EllapsedTime: 74.1 seconds RetCode: 0 Status: WARNINGS CheckDir: flowClean.Rcheck Warnings: 3