Package: flowClean Version: 1.44.0 Command: /home/biocbuild/R/R/bin/R CMD build --keep-empty-dirs --no-resave-data flowClean StartedAt: 2025-02-03 23:38:29 -0000 (Mon, 03 Feb 2025) EndedAt: 2025-02-03 23:39:05 -0000 (Mon, 03 Feb 2025) EllapsedTime: 36.0 seconds RetCode: 0 Status: OK PackageFile: flowClean_1.44.0.tar.gz PackageFileSize: 4.699 MiB