Package: flowClean Version: 1.44.0 Command: /Library/Frameworks/R.framework/Resources/bin/R CMD build --keep-empty-dirs --no-resave-data flowClean StartedAt: 2025-01-27 23:43:43 -0500 (Mon, 27 Jan 2025) EndedAt: 2025-01-27 23:44:21 -0500 (Mon, 27 Jan 2025) EllapsedTime: 38.5 seconds RetCode: 0 Status: OK PackageFile: flowClean_1.44.0.tar.gz PackageFileSize: 4.923 MiB