Package: flowCHIC Version: 1.40.0 Command: /home/biocbuild/bbs-3.20-bioc/R/bin/R CMD check --install=check:flowCHIC.install-out.txt --library=/home/biocbuild/bbs-3.20-bioc/R/site-library --timings flowCHIC_1.40.0.tar.gz StartedAt: 2025-03-31 22:12:59 -0400 (Mon, 31 Mar 2025) EndedAt: 2025-03-31 22:14:44 -0400 (Mon, 31 Mar 2025) EllapsedTime: 105.1 seconds RetCode: 0 Status: OK CheckDir: flowCHIC.Rcheck Warnings: 0