Package: flowCHIC Version: 1.40.0 Command: /Library/Frameworks/R.framework/Resources/bin/R CMD build --keep-empty-dirs --no-resave-data flowCHIC StartedAt: 2025-03-31 23:36:22 -0400 (Mon, 31 Mar 2025) EndedAt: 2025-03-31 23:37:17 -0400 (Mon, 31 Mar 2025) EllapsedTime: 54.9 seconds RetCode: 0 Status: OK PackageFile: flowCHIC_1.40.0.tar.gz PackageFileSize: 3.24 MiB