Package: flowBin Version: 1.42.0 Command: /home/biocbuild/R/R/bin/R CMD build --keep-empty-dirs --no-resave-data flowBin StartedAt: 2025-01-30 23:37:34 -0000 (Thu, 30 Jan 2025) EndedAt: 2025-01-30 23:38:06 -0000 (Thu, 30 Jan 2025) EllapsedTime: 32.0 seconds RetCode: 0 Status: OK PackageFile: flowBin_1.42.0.tar.gz PackageFileSize: 567.6 KiB