Package: flowBin Version: 1.42.0 Command: /Library/Frameworks/R.framework/Resources/bin/R CMD check --install=check:flowBin.install-out.txt --library=/Library/Frameworks/R.framework/Resources/library --no-vignettes --timings flowBin_1.42.0.tar.gz StartedAt: 2025-04-01 19:21:00 -0400 (Tue, 01 Apr 2025) EndedAt: 2025-04-01 19:22:26 -0400 (Tue, 01 Apr 2025) EllapsedTime: 85.5 seconds RetCode: 0 Status: OK CheckDir: flowBin.Rcheck Warnings: 0