Package: flowBin Version: 1.42.0 Command: /Library/Frameworks/R.framework/Resources/bin/R CMD build --keep-empty-dirs --no-resave-data flowBin StartedAt: 2025-01-30 23:44:54 -0500 (Thu, 30 Jan 2025) EndedAt: 2025-01-30 23:45:26 -0500 (Thu, 30 Jan 2025) EllapsedTime: 32.0 seconds RetCode: 0 Status: OK PackageFile: flowBin_1.42.0.tar.gz PackageFileSize: 575.1 KiB