Package: flowBin Version: 1.42.0 Command: rm -rf flowBin.buildbin-libdir && mkdir flowBin.buildbin-libdir && /Users/biocbuild/BBS/utils/build-universal.sh flowBin_1.42.0.tar.gz /Library/Frameworks/R.framework/Resources/bin/R flowBin.buildbin-libdir StartedAt: 2025-04-02 14:22:01 -0400 (Wed, 02 Apr 2025) EndedAt: 2025-04-02 14:22:15 -0400 (Wed, 02 Apr 2025) EllapsedTime: 13.7 seconds RetCode: 0 Status: OK PackageFile: flowBin_1.42.0.tgz PackageFileSize: 837.3 KiB