Package: flowAI Version: 1.36.0 Command: /Library/Frameworks/R.framework/Resources/bin/R CMD INSTALL flowAI StartedAt: 2025-03-31 16:34:34 -0400 (Mon, 31 Mar 2025) EndedAt: 2025-03-31 16:34:40 -0400 (Mon, 31 Mar 2025) EllapsedTime: 6.0 seconds RetCode: 0 Status: OK