Package: flowAI Version: 1.36.0 Command: rm -rf flowAI.buildbin-libdir && mkdir flowAI.buildbin-libdir && /Users/biocbuild/BBS/utils/build-universal.sh flowAI_1.36.0.tar.gz /Library/Frameworks/R.framework/Resources/bin/R flowAI.buildbin-libdir StartedAt: 2025-04-02 14:21:47 -0400 (Wed, 02 Apr 2025) EndedAt: 2025-04-02 14:22:01 -0400 (Wed, 02 Apr 2025) EllapsedTime: 13.6 seconds RetCode: 0 Status: OK PackageFile: flowAI_1.36.0.tgz PackageFileSize: 3.691 MiB