Package: flagme Version: 1.62.0 Command: /Library/Frameworks/R.framework/Resources/bin/R CMD INSTALL flagme StartedAt: 2025-03-31 17:00:30 -0400 (Mon, 31 Mar 2025) EndedAt: 2025-03-31 17:01:25 -0400 (Mon, 31 Mar 2025) EllapsedTime: 54.8 seconds RetCode: 0 Status: OK