Package: fishpond Version: 2.12.0 Command: /home/biocbuild/R/R/bin/R CMD INSTALL fishpond StartedAt: 2025-01-27 21:15:08 -0000 (Mon, 27 Jan 2025) EndedAt: 2025-01-27 21:15:37 -0000 (Mon, 27 Jan 2025) EllapsedTime: 29.5 seconds RetCode: 0 Status: OK