Package: fishpond Version: 2.12.0 Command: /home/biocbuild/R/R/bin/R CMD check --install=check:fishpond.install-out.txt --library=/home/biocbuild/R/R/site-library --no-vignettes --timings fishpond_2.12.0.tar.gz StartedAt: 2025-01-28 07:10:39 -0000 (Tue, 28 Jan 2025) EndedAt: 2025-01-28 07:15:27 -0000 (Tue, 28 Jan 2025) EllapsedTime: 288.4 seconds RetCode: 0 Status: OK CheckDir: fishpond.Rcheck Warnings: 0