Package: fishpond Version: 2.12.0 Command: /home/biocbuild/R/R/bin/R CMD build --keep-empty-dirs --no-resave-data fishpond StartedAt: 2025-01-28 00:19:46 -0000 (Tue, 28 Jan 2025) EndedAt: 2025-01-28 00:25:18 -0000 (Tue, 28 Jan 2025) EllapsedTime: 332.1 seconds RetCode: 0 Status: OK PackageFile: fishpond_2.12.0.tar.gz PackageFileSize: 2.463 MiB