Package: fishpond Version: 2.12.0 Command: rm -rf fishpond.buildbin-libdir && mkdir fishpond.buildbin-libdir && /Users/biocbuild/BBS/utils/build-universal.sh fishpond_2.12.0.tar.gz /Library/Frameworks/R.framework/Resources/bin/R fishpond.buildbin-libdir StartedAt: 2025-01-28 13:08:51 -0500 (Tue, 28 Jan 2025) EndedAt: 2025-01-28 13:09:55 -0500 (Tue, 28 Jan 2025) EllapsedTime: 63.3 seconds RetCode: 0 Status: OK PackageFile: fishpond_2.12.0.tgz PackageFileSize: 4.006 MiB