Package: fishpond Version: 2.12.0 Command: /Library/Frameworks/R.framework/Resources/bin/R CMD check --install=check:fishpond.install-out.txt --library=/Library/Frameworks/R.framework/Resources/library --no-vignettes --timings fishpond_2.12.0.tar.gz StartedAt: 2024-11-09 02:19:43 -0500 (Sat, 09 Nov 2024) EndedAt: 2024-11-09 02:24:47 -0500 (Sat, 09 Nov 2024) EllapsedTime: 304.0 seconds RetCode: 0 Status: OK CheckDir: fishpond.Rcheck Warnings: 0