Package: fishpond Version: 2.12.0 Command: /Library/Frameworks/R.framework/Resources/bin/R CMD build --keep-empty-dirs --no-resave-data fishpond StartedAt: 2024-11-08 17:14:50 -0500 (Fri, 08 Nov 2024) EndedAt: 2024-11-08 17:16:29 -0500 (Fri, 08 Nov 2024) EllapsedTime: 99.0 seconds RetCode: 0 Status: OK PackageFile: fishpond_2.12.0.tar.gz PackageFileSize: 4.278 MiB