Package: findIPs Version: 1.2.0 Command: /home/biocbuild/R/R/bin/R CMD INSTALL findIPs StartedAt: 2025-02-10 20:52:02 -0000 (Mon, 10 Feb 2025) EndedAt: 2025-02-10 20:52:28 -0000 (Mon, 10 Feb 2025) EllapsedTime: 25.4 seconds RetCode: 0 Status: OK