Package: findIPs Version: 1.2.0 Command: /home/biocbuild/R/R/bin/R CMD check --install=check:findIPs.install-out.txt --library=/home/biocbuild/R/R/site-library --no-vignettes --timings findIPs_1.2.0.tar.gz StartedAt: 2025-02-11 06:13:18 -0000 (Tue, 11 Feb 2025) EndedAt: 2025-02-11 06:22:51 -0000 (Tue, 11 Feb 2025) EllapsedTime: 572.7 seconds RetCode: 0 Status: OK CheckDir: findIPs.Rcheck Warnings: 0