Package: findIPs Version: 1.2.0 Command: /home/biocbuild/R/R/bin/R CMD build --keep-empty-dirs --no-resave-data findIPs StartedAt: 2025-02-10 23:25:48 -0000 (Mon, 10 Feb 2025) EndedAt: 2025-02-10 23:32:08 -0000 (Mon, 10 Feb 2025) EllapsedTime: 380.1 seconds RetCode: 0 Status: OK PackageFile: findIPs_1.2.0.tar.gz PackageFileSize: 2.296 MiB