Package: findIPs Version: 1.2.0 Command: F:\biocbuild\bbs-3.20-bioc\R\bin\R.exe CMD check --no-multiarch --install=check:findIPs.install-out.txt --library=F:\biocbuild\bbs-3.20-bioc\R\library --no-vignettes --timings findIPs_1.2.0.tar.gz StartedAt: 2025-02-11 01:44:40 -0500 (Tue, 11 Feb 2025) EndedAt: 2025-02-11 01:53:02 -0500 (Tue, 11 Feb 2025) EllapsedTime: 502.5 seconds RetCode: 0 Status: OK CheckDir: findIPs.Rcheck Warnings: 0