Package: findIPs Version: 1.2.0 Command: /Library/Frameworks/R.framework/Resources/bin/R CMD INSTALL findIPs StartedAt: 2025-02-10 17:18:30 -0500 (Mon, 10 Feb 2025) EndedAt: 2025-02-10 17:18:54 -0500 (Mon, 10 Feb 2025) EllapsedTime: 24.2 seconds RetCode: 0 Status: OK