Package: fgsea Version: 1.32.4 Command: /home/biocbuild/bbs-3.20-bioc/R/bin/R CMD build --keep-empty-dirs --no-resave-data --md5 fgsea StartedAt: 2025-03-31 17:16:08 -0400 (Mon, 31 Mar 2025) EndedAt: 2025-03-31 17:17:52 -0400 (Mon, 31 Mar 2025) EllapsedTime: 104.2 seconds RetCode: 1 Status: ERROR PackageFile: None PackageFileSize: NA