Package: fgsea Version: 1.32.2 Command: /Library/Frameworks/R.framework/Resources/bin/R CMD INSTALL fgsea StartedAt: 2025-01-30 17:10:13 -0500 (Thu, 30 Jan 2025) EndedAt: 2025-01-30 17:10:46 -0500 (Thu, 30 Jan 2025) EllapsedTime: 32.9 seconds RetCode: 0 Status: OK