Package: fgga Version: 1.14.0 Command: /home/biocbuild/R/R/bin/R CMD INSTALL fgga StartedAt: 2025-01-27 21:16:15 -0000 (Mon, 27 Jan 2025) EndedAt: 2025-01-27 21:16:34 -0000 (Mon, 27 Jan 2025) EllapsedTime: 18.5 seconds RetCode: 0 Status: OK