Package: fenr Version: 1.4.1 Command: /home/biocbuild/R/R/bin/R CMD check --install=check:fenr.install-out.txt --library=/home/biocbuild/R/R/site-library --no-vignettes --timings fenr_1.4.1.tar.gz StartedAt: 2025-01-31 06:15:05 -0000 (Fri, 31 Jan 2025) EndedAt: 2025-01-31 06:19:14 -0000 (Fri, 31 Jan 2025) EllapsedTime: 249.3 seconds RetCode: 0 Status: OK CheckDir: fenr.Rcheck Warnings: 0