Package: fenr Version: 1.4.1 Command: /home/biocbuild/R/R/bin/R CMD build --keep-empty-dirs --no-resave-data fenr StartedAt: 2025-01-30 23:35:29 -0000 (Thu, 30 Jan 2025) EndedAt: 2025-01-30 23:36:00 -0000 (Thu, 30 Jan 2025) EllapsedTime: 31.0 seconds RetCode: 0 Status: OK PackageFile: fenr_1.4.1.tar.gz PackageFileSize: 1.991 MiB