Package: fedup Version: 1.14.0 Command: /home/biocbuild/R/R/bin/R CMD INSTALL fedup StartedAt: 2025-01-27 22:00:00 -0000 (Mon, 27 Jan 2025) EndedAt: 2025-01-27 22:00:10 -0000 (Mon, 27 Jan 2025) EllapsedTime: 9.9 seconds RetCode: 0 Status: OK