Package: fedup Version: 1.14.0 Command: /Library/Frameworks/R.framework/Resources/bin/R CMD INSTALL fedup StartedAt: 2025-02-03 18:00:35 -0500 (Mon, 03 Feb 2025) EndedAt: 2025-02-03 18:00:45 -0500 (Mon, 03 Feb 2025) EllapsedTime: 9.2 seconds RetCode: 0 Status: OK