Package: fedup Version: 1.14.0 Command: /Library/Frameworks/R.framework/Resources/bin/R CMD build --keep-empty-dirs --no-resave-data fedup StartedAt: 2025-02-03 23:32:47 -0500 (Mon, 03 Feb 2025) EndedAt: 2025-02-03 23:34:29 -0500 (Mon, 03 Feb 2025) EllapsedTime: 102.0 seconds RetCode: 0 Status: OK PackageFile: fedup_1.14.0.tar.gz PackageFileSize: 4.703 MiB