Package: fcScan Version: 1.20.0 Command: F:\biocbuild\bbs-3.20-bioc\R\bin\R.exe CMD check --no-multiarch --install=check:fcScan.install-out.txt --library=F:\biocbuild\bbs-3.20-bioc\R\library --no-vignettes --timings fcScan_1.20.0.tar.gz StartedAt: 2025-03-28 01:48:36 -0400 (Fri, 28 Mar 2025) EndedAt: 2025-03-28 02:04:59 -0400 (Fri, 28 Mar 2025) EllapsedTime: 982.9 seconds RetCode: 0 Status: OK CheckDir: fcScan.Rcheck Warnings: 0