Package: fcScan Version: 1.20.0 Command: /Library/Frameworks/R.framework/Resources/bin/R CMD INSTALL fcScan StartedAt: 2025-01-30 15:42:04 -0500 (Thu, 30 Jan 2025) EndedAt: 2025-01-30 15:43:25 -0500 (Thu, 30 Jan 2025) EllapsedTime: 81.1 seconds RetCode: 0 Status: OK