Package: fcScan Version: 1.20.0 Command: /Library/Frameworks/R.framework/Resources/bin/R CMD build --keep-empty-dirs --no-resave-data fcScan StartedAt: 2025-02-03 18:55:21 -0500 (Mon, 03 Feb 2025) EndedAt: 2025-02-03 18:57:36 -0500 (Mon, 03 Feb 2025) EllapsedTime: 135.3 seconds RetCode: 0 Status: OK PackageFile: fcScan_1.20.0.tar.gz PackageFileSize: 241.7 KiB